BEGIN:VCALENDAR
VERSION:2.0
PRODID:-//New Braunfels Parks Foundation - ECPv6.15.20//NONSGML v1.0//EN
CALSCALE:GREGORIAN
METHOD:PUBLISH
X-WR-CALNAME:New Braunfels Parks Foundation
X-ORIGINAL-URL:https://nbparksfoundation.org
X-WR-CALDESC:Events for New Braunfels Parks Foundation
REFRESH-INTERVAL;VALUE=DURATION:PT1H
X-Robots-Tag:noindex
X-PUBLISHED-TTL:PT1H
BEGIN:VTIMEZONE
TZID:America/Chicago
BEGIN:DAYLIGHT
TZOFFSETFROM:-0600
TZOFFSETTO:-0500
TZNAME:CDT
DTSTART:20250309T080000
END:DAYLIGHT
BEGIN:STANDARD
TZOFFSETFROM:-0500
TZOFFSETTO:-0600
TZNAME:CST
DTSTART:20251102T070000
END:STANDARD
BEGIN:DAYLIGHT
TZOFFSETFROM:-0600
TZOFFSETTO:-0500
TZNAME:CDT
DTSTART:20260308T080000
END:DAYLIGHT
BEGIN:STANDARD
TZOFFSETFROM:-0500
TZOFFSETTO:-0600
TZNAME:CST
DTSTART:20261101T070000
END:STANDARD
BEGIN:DAYLIGHT
TZOFFSETFROM:-0600
TZOFFSETTO:-0500
TZNAME:CDT
DTSTART:20270314T080000
END:DAYLIGHT
BEGIN:STANDARD
TZOFFSETFROM:-0500
TZOFFSETTO:-0600
TZNAME:CST
DTSTART:20271107T070000
END:STANDARD
END:VTIMEZONE
BEGIN:VEVENT
DTSTART;TZID=America/Chicago:20260410T083000
DTEND;TZID=America/Chicago:20260410T130000
DTSTAMP:20260422T173342
CREATED:20220422T202352Z
LAST-MODIFIED:20260306T010944Z
UID:14217-1775809800-1775826000@nbparksfoundation.org
SUMMARY:5th Annual Golf FORE Parks! Golf Tournament
DESCRIPTION:Grab your team and join the fun and games while supporting parks\, trail and recreational programs in New Braunfels! \nFriday\, April 10\, 2026| Shotgun Start 8:30am\nFormat: 4-Person Scramble\nTeam Prizes | Closest to the Pin \nBreakfast & Lunch Included \nGOLF FOURSOME INFORMATION\nEntry fee is $160 per amateur. All entries MUST include payment.\nPay by check or call (830) 221-4367 to pay by phone.\nChecks can be made out to New Braunfels Parks Foundation. \nSIGN UP & SPONSORSHIP INFO \nPlayer Entry Form \nSponsorship Form \n 
URL:https://nbparksfoundation.org/event/5th-annual-golf-fore-parks/
LOCATION:Landa Golf Course\, 180 Golf Course Road\, New Braunfels\, TX\, 78130\, United States
ORGANIZER;CN="New Braunfels Parks Foundation":MAILTO:asterling@newbraunfels.gov
END:VEVENT
BEGIN:VEVENT
DTSTART;TZID=America/Chicago:20260620T073000
DTEND;TZID=America/Chicago:20260620T103000
DTSTAMP:20260422T173342
CREATED:20210208T182607Z
LAST-MODIFIED:20251217T145225Z
UID:13399-1781940600-1781951400@nbparksfoundation.org
SUMMARY:2026 Dos Rios 5K Splash & Dash
DESCRIPTION:RACE REGISTRATION \n\n🌊🏃 Dos Rios 5K Splash & Dash – The Coolest Race in Texas! 🏃🌊 \nGet ready for an unforgettable race experience that blends running\, rivers\, and pure adventure! The 16th Annual Dos Rios Splash & Dash 5K is not your average race—it’s a thrilling\, scenic journey along TWO gorgeous rivers and through THREE beautiful parks in New Braunfels. \n\n\n \n  \nJOIN US FOR THE POST RACE CELEBRATION \nCypress Bend Park at 9:00 – 10:30 AM \n\n 
URL:https://nbparksfoundation.org/event/2026-dos-rios-5k-splash-dash/
LOCATION:Cypress Bend Park\, 503 Peace Avenue\, New Braunfels\, TX\, 78130\, United States
ORGANIZER;CN="New Braunfels Parks Foundation":MAILTO:asterling@newbraunfels.gov
END:VEVENT
END:VCALENDAR