BEGIN:VCALENDAR
VERSION:2.0
PRODID:-//New Braunfels Parks Foundation - ECPv6.15.20//NONSGML v1.0//EN
CALSCALE:GREGORIAN
METHOD:PUBLISH
X-WR-CALNAME:New Braunfels Parks Foundation
X-ORIGINAL-URL:https://nbparksfoundation.org
X-WR-CALDESC:Events for New Braunfels Parks Foundation
REFRESH-INTERVAL;VALUE=DURATION:PT1H
X-Robots-Tag:noindex
X-PUBLISHED-TTL:PT1H
BEGIN:VTIMEZONE
TZID:America/Chicago
BEGIN:DAYLIGHT
TZOFFSETFROM:-0600
TZOFFSETTO:-0500
TZNAME:CDT
DTSTART:20220313T080000
END:DAYLIGHT
BEGIN:STANDARD
TZOFFSETFROM:-0500
TZOFFSETTO:-0600
TZNAME:CST
DTSTART:20221106T070000
END:STANDARD
BEGIN:DAYLIGHT
TZOFFSETFROM:-0600
TZOFFSETTO:-0500
TZNAME:CDT
DTSTART:20230312T080000
END:DAYLIGHT
BEGIN:STANDARD
TZOFFSETFROM:-0500
TZOFFSETTO:-0600
TZNAME:CST
DTSTART:20231105T070000
END:STANDARD
BEGIN:DAYLIGHT
TZOFFSETFROM:-0600
TZOFFSETTO:-0500
TZNAME:CDT
DTSTART:20240310T080000
END:DAYLIGHT
BEGIN:STANDARD
TZOFFSETFROM:-0500
TZOFFSETTO:-0600
TZNAME:CST
DTSTART:20241103T070000
END:STANDARD
END:VTIMEZONE
BEGIN:VEVENT
DTSTART;TZID=America/Chicago:20230202T180000
DTEND;TZID=America/Chicago:20230202T190000
DTSTAMP:20260424T120328
CREATED:20230126T201622Z
LAST-MODIFIED:20230320T213427Z
UID:14376-1675360800-1675364400@nbparksfoundation.org
SUMMARY:Parks Foundation Board Monthly Board Meeting
DESCRIPTION:NBPF Board Meeting
URL:https://nbparksfoundation.org/event/parks-foundation-board-monthly-board-meeting/
LOCATION:Landa Haus\, 360 Aquatic Circle\, New Braunfels\, TX\, 78130\, United States
END:VEVENT
END:VCALENDAR